BEGIN:VCALENDAR
VERSION:2.0
PRODID:-//Lake Minnetonka Magazine - ECPv6.15.20//NONSGML v1.0//EN
CALSCALE:GREGORIAN
METHOD:PUBLISH
X-WR-CALNAME:Lake Minnetonka Magazine
X-ORIGINAL-URL:https://lakeminnetonkamag.com
X-WR-CALDESC:Events for Lake Minnetonka Magazine
REFRESH-INTERVAL;VALUE=DURATION:PT1H
X-Robots-Tag:noindex
X-PUBLISHED-TTL:PT1H
BEGIN:VTIMEZONE
TZID:America/Chicago
BEGIN:DAYLIGHT
TZOFFSETFROM:-0600
TZOFFSETTO:-0500
TZNAME:CDT
DTSTART:20250309T080000
END:DAYLIGHT
BEGIN:STANDARD
TZOFFSETFROM:-0500
TZOFFSETTO:-0600
TZNAME:CST
DTSTART:20251102T070000
END:STANDARD
BEGIN:DAYLIGHT
TZOFFSETFROM:-0600
TZOFFSETTO:-0500
TZNAME:CDT
DTSTART:20260308T080000
END:DAYLIGHT
BEGIN:STANDARD
TZOFFSETFROM:-0500
TZOFFSETTO:-0600
TZNAME:CST
DTSTART:20261101T070000
END:STANDARD
BEGIN:DAYLIGHT
TZOFFSETFROM:-0600
TZOFFSETTO:-0500
TZNAME:CDT
DTSTART:20270314T080000
END:DAYLIGHT
BEGIN:STANDARD
TZOFFSETFROM:-0500
TZOFFSETTO:-0600
TZNAME:CST
DTSTART:20271107T070000
END:STANDARD
END:VTIMEZONE
BEGIN:VEVENT
DTSTART;TZID=America/Chicago:20260424T170000
DTEND;TZID=America/Chicago:20260424T170000
DTSTAMP:20260419T222717
CREATED:20260303T155027Z
LAST-MODIFIED:20260303T155027Z
UID:15230-1777050000-1777050000@lakeminnetonkamag.com
SUMMARY:Spring Soirée
DESCRIPTION:The Spring Soirée is a fresh\, fun reimagining of our beloved fashion gala\, celebrating everything that makes the Excelsior Lake Minnetonka community so special. Local leaders\, business owners\, educators and public servants take the runway modeling looks from our favorite local retailers\, all set against live music and dance performances. \nYour $100 ticket includes unlimited beer and wine\, Taste of Excelsior-Lake Minnetonka cocktail hour\, live entertainment\, shopping with local boutiques\, photo moments and interactive fundraising experiences. Bright colors are encouraged and spring style is celebrated. This is your chance to sip\, socialize and support the community in one unforgettable night out. \nAll proceeds benefit the programs and initiatives of the Excelsior Lake Minnetonka Chamber of Commerce as well as our member nonprofits.
URL:https://lakeminnetonkamag.com/event/spring-soiree/
LOCATION:Camp Fire Minnesota\, 3300 Tanadoona Drive\, Excelsior\, MN\, 55331
CATEGORIES:Benefits & Fundraisers,Food & Drink
ATTACH;FMTTYPE=image/jpeg:https://lakeminnetonkamag.com/wp-content/uploads/2026/03/ELMCC-SpringSoiree-Logo-CLR.jpg
END:VEVENT
BEGIN:VEVENT
DTSTART;TZID=America/Chicago:20260425T060000
DTEND;TZID=America/Chicago:20260425T143000
DTSTAMP:20260419T222717
CREATED:20260302T185330Z
LAST-MODIFIED:20260302T185330Z
UID:15213-1777096800-1777127400@lakeminnetonkamag.com
SUMMARY:Arboretum Bird Day
DESCRIPTION:Grow your knowledge of birds with your choice of walks and workshops. \nBirding is for everyone. Come together with birding enthusiasts and experts from around the region to celebrate spring migration! This day-long buffet of workshops\, nature walks and book signings will be offered to birders from novice to experienced. Amidst the setting of spring flowers\, interact with a host of experts about birding\, habitat\, quirky bird science and even meet live raptors. Pay one fee for the day\, but customize your experience based on your interests.
URL:https://lakeminnetonkamag.com/event/arboretum-bird-day/
LOCATION:Minnesota Landscape Arboretum\, 3675 Arboretum Drive\, Chaska\, MN\, 55318
CATEGORIES:Education,Outdoors
ATTACH;FMTTYPE=image/jpeg:https://lakeminnetonkamag.com/wp-content/uploads/2026/03/birdingfieldday1200x395_aps.jpg.jpg
END:VEVENT
BEGIN:VEVENT
DTSTART;TZID=America/Chicago:20260425T100000
DTEND;TZID=America/Chicago:20260425T140000
DTSTAMP:20260419T222717
CREATED:20260226T211708Z
LAST-MODIFIED:20260226T211708Z
UID:15188-1777111200-1777125600@lakeminnetonkamag.com
SUMMARY:Arbor Day
DESCRIPTION:Celebrate Arbor Day at the University of Minnesota Landscape Arboretum. Join us for a day of discovery\, nature and creativity as we honor the beauty and importance of trees with a series of exciting activities and events. Whether you’re a nature lover\, a family looking for fun or an art enthusiast\, we’ve curated an unforgettable experience for all ages.
URL:https://lakeminnetonkamag.com/event/arbor-day/
LOCATION:Minnesota Landscape Arboretum\, 3675 Arboretum Drive\, Chaska\, MN\, 55318
CATEGORIES:Community,Outdoors
ATTACH;FMTTYPE=image/jpeg:https://lakeminnetonkamag.com/wp-content/uploads/2026/02/arbor_day_2024_770x450.jpg.jpg
END:VEVENT
BEGIN:VEVENT
DTSTART;TZID=America/Chicago:20260425T193000
DTEND;TZID=America/Chicago:20260425T193000
DTSTAMP:20260419T222717
CREATED:20260324T203916Z
LAST-MODIFIED:20260324T203916Z
UID:15410-1777145400-1777145400@lakeminnetonkamag.com
SUMMARY:"Monty Python’s Spamalot"
DESCRIPTION:It’s just a flesh wound! Monty Python’s SPAMALOT\, lovingly ripped off from the classic film comedy Monty Python and the Holy Grail\, retells the legend of King Arthur and his Knights of the Round Table\, and features an exuberant high-kicking chorus\, not to mention cows\, killer rabbits and French people.\n​\nBursting with unforgettable songs\, absurd humor and zany characters\, this musical is a rollicking celebration of all things Monty Python. The 2005 Broadway production won three Tony Awards\, including Best Musical\, and its success continued with two West End runs and recent Broadway and London revivals.\n​\nWith its laugh-out-loud moments and unforgettable anthem Always Look on the Bright Side of Life\, SPAMALOT is a gloriously entertaining journey that will leave audiences in stitches from start to finish. \n\n7:30 p.m. April 25\, May 2\, 8\, 9\n2 p.m. May 3\, 10
URL:https://lakeminnetonkamag.com/event/monty-pythons-spamalot/
LOCATION:Minnetonka Theatre Main Stage\, 18285 MN-7\, Minnetonka\, MN\, 55345
CATEGORIES:Arts & Performance
ATTACH;FMTTYPE=image/png:https://lakeminnetonkamag.com/wp-content/uploads/2026/03/SpamaLot_Poster_0730.png
END:VEVENT
BEGIN:VEVENT
DTSTART;TZID=America/Chicago:20260430T183000
DTEND;TZID=America/Chicago:20260430T200000
DTSTAMP:20260419T222717
CREATED:20260406T164000Z
LAST-MODIFIED:20260406T164000Z
UID:15481-1777573800-1777579200@lakeminnetonkamag.com
SUMMARY:New Member Meet and Greet
DESCRIPTION:Be ready to share your availability and any sailing or racing experience you might have—no worries if you’re new to it\, enthusiasm is all you need. Find out about your chance to sail racing for free this summer. \nWho should attend: \n\nAnyone who loves being on the water and is interested in learning to sail in a race.\nSkippers or boat owners interested in meeting new people and finding new crew members.\nInterested Wayzata Yacht Club members who bring a friend interested in sailing or racing.
URL:https://lakeminnetonkamag.com/event/new-member-meet-and-greet/
LOCATION:Wayzata Yacht Club\, 1100 Eastman Ln.\, Wayzata\, MN\, 55391
CATEGORIES:Outdoors,Sports
ATTACH;FMTTYPE=image/jpeg:https://lakeminnetonkamag.com/wp-content/uploads/2026/04/MhESheqybeyd_fni8AdbPAxn_1775081080_1775081080542.jpg
END:VEVENT
BEGIN:VEVENT
DTSTART;TZID=America/Chicago:20260502T100000
DTEND;TZID=America/Chicago:20260502T120000
DTSTAMP:20260419T222717
CREATED:20230413T191822Z
LAST-MODIFIED:20260401T194746Z
UID:3199-1777716000-1777723200@lakeminnetonkamag.com
SUMMARY:Spring Splash
DESCRIPTION:Join us for an exciting day of family-friendly fun at Spring Splash\, hosted by The Wayzata Conservancy and the City of Wayzata. This event\, held on the Panoway on Wayzata Bay\, aims to showcase the Lake Exploration Camps and various summer programming opportunities available in the community. \nWe invite you to participate in engaging activities hosted by organizations such as the YMCA\, Three Rivers Park\, Wayzata Community Ed and more. Food and Beverages will be provided by McCormicks and Ben & Jerry’s. \nSpring Splash is more than just a celebration; it’s a shared anticipation for the Section Foreman House restoration. Post-restoration\, the Sandvold Lakeshore Learning Center will become a hub for STEAM-oriented programming. Explore the vision for indoor and outdoor classrooms\, providing a space for education and community gatherings. The event is wonderful opportunity to come together as a community\, celebrate the upcoming summer\, and support the initiatives that will enhance our shared spaces. \nMark your calendars\, invite your friends and family\, and join us for a day of joy\, learning\, and anticipation. Let’s dive into summer fun at Spring Splash!
URL:https://lakeminnetonkamag.com/event/spring-splash/
LOCATION:Panoway\, 681 Lake St. E.\, Wayzata\, MN\, 55391
CATEGORIES:For the Kids,Outdoors
ATTACH;FMTTYPE=image/png:https://lakeminnetonkamag.com/wp-content/uploads/2023/04/tmp_511_4-5-2022_50138_-1.png
END:VEVENT
BEGIN:VEVENT
DTSTART;TZID=America/Chicago:20260508T080000
DTEND;TZID=America/Chicago:20260508T160000
DTSTAMP:20260419T222717
CREATED:20260318T174719Z
LAST-MODIFIED:20260318T174719Z
UID:15308-1778227200-1778256000@lakeminnetonkamag.com
SUMMARY:Farm at the Arb Plant Sale
DESCRIPTION:Shop this amazing selection of plants chosen by Arboretum horticulture experts at this annual sale featuring a wide selection of annuals\, perennials\, fruits\, vegetables\, herbs and trees. This year we are expanding the native plant varieties. Admission is free\, but shoppers need to make reservations on the website and use the entrance at the Farm at the Arb\, on 82nd St.
URL:https://lakeminnetonkamag.com/event/farm-at-the-arb-plant-sale/
LOCATION:Farm at the Arb\, 3210 W 82nd St.\, Chanhassen\, MN\, 55318
CATEGORIES:Home & Garden
ATTACH;FMTTYPE=image/jpeg:https://lakeminnetonkamag.com/wp-content/uploads/2026/03/plant_sale_2000x600_2.jpg.jpg
END:VEVENT
BEGIN:VEVENT
DTSTART;TZID=America/Chicago:20260509T080000
DTEND;TZID=America/Chicago:20260509T160000
DTSTAMP:20260419T222717
CREATED:20260318T174751Z
LAST-MODIFIED:20260318T174751Z
UID:15311-1778313600-1778342400@lakeminnetonkamag.com
SUMMARY:Farm at the Arb Plant Sale
DESCRIPTION:Shop this amazing selection of plants chosen by Arboretum horticulture experts at this annual sale featuring a wide selection of annuals\, perennials\, fruits\, vegetables\, herbs and trees. This year we are expanding the native plant varieties. Admission is free\, but shoppers need to make reservations on the website and use the entrance at the Farm at the Arb\, on 82nd St.
URL:https://lakeminnetonkamag.com/event/farm-at-the-arb-plant-sale-2/
LOCATION:Farm at the Arb\, 3210 W 82nd St.\, Chanhassen\, MN\, 55318
CATEGORIES:Home & Garden
ATTACH;FMTTYPE=image/jpeg:https://lakeminnetonkamag.com/wp-content/uploads/2026/03/plant_sale_2000x600_2.jpg.jpg
END:VEVENT
BEGIN:VEVENT
DTSTART;TZID=America/Chicago:20260509T100000
DTEND;TZID=America/Chicago:20260509T120000
DTSTAMP:20260419T222717
CREATED:20260122T200347Z
LAST-MODIFIED:20260122T200425Z
UID:14919-1778320800-1778328000@lakeminnetonkamag.com
SUMMARY:Make a Textured Tile: 3D Printed Rollers and Clay Creations
DESCRIPTION:Get hands-on with clay and create unique textured tiles. Experiment with 3D printed rollers to imprint fascinating patterns and designs. This sensory adventure encourages exploration\, creativity and playful fun with air-dry clay. Materials provided. Children under age 10 may need adult assistance. Collaborator: Make with Sam. This program is funded with money from Minnesota’s Arts and Cultural Heritage Fund.
URL:https://lakeminnetonkamag.com/event/make-a-textured-tile-3d-printed-rollers-and-clay-creations/
LOCATION:Excelsior Library\, 337 Water St.\, Excelsior\, MN\, 55331
CATEGORIES:Arts & Performance,For the Kids
ATTACH;FMTTYPE=image/png:https://lakeminnetonkamag.com/wp-content/uploads/2026/01/HandsOnArt_Brand_16x9.png
END:VEVENT
BEGIN:VEVENT
DTSTART;TZID=America/Chicago:20260510T110000
DTEND;TZID=America/Chicago:20260510T140000
DTSTAMP:20260419T222717
CREATED:20260414T151338Z
LAST-MODIFIED:20260414T151338Z
UID:15520-1778410800-1778421600@lakeminnetonkamag.com
SUMMARY:Mother's Day Picnic Boxed Lunch
DESCRIPTION:Treat mom to a day without cooking this Mother’s Day. And what better place to celebrate than the Arboretum. Rootstock will be offering grab-and-go box lunches for advance purchase for Mother’s Day. Reserve a box lunch and follow it up with a walk through the Arboretum gardens to see the spring blooms\, including 40\,000 tulips planted throughout the grounds.
URL:https://lakeminnetonkamag.com/event/mothers-day-picnic-boxed-lunch/
LOCATION:Minnesota Landscape Arboretum\, 3675 Arboretum Drive\, Chaska\, MN\, 55318
CATEGORIES:Food & Drink
ATTACH;FMTTYPE=image/jpeg:https://lakeminnetonkamag.com/wp-content/uploads/2026/04/mothers_day_770x450.jpg.jpg
END:VEVENT
BEGIN:VEVENT
DTSTART;TZID=America/Chicago:20260516T130000
DTEND;TZID=America/Chicago:20260516T150000
DTSTAMP:20260419T222717
CREATED:20260414T151008Z
LAST-MODIFIED:20260414T151008Z
UID:15513-1778936400-1778943600@lakeminnetonkamag.com
SUMMARY:"Toward the Trees" Artist Meet & Greet
DESCRIPTION:Walk toward the trees! Take in Mary Pat Maracle’s textured photo encaustics of detailed broadleafs and Kristen Palm’s vivid\, representational abstract trees and landscapes. Step back to experience Palm’s bold colors and shapes that evoke our tall sylvan relatives in acrylic\, then step closer to observe the blankets of palpable wax\, layered intricately by Maracle. Though both artists depict trees in different ways—sometimes playful and loud\, other times ghostly with an underlying structure of branches and twigs—each style of work celebrates their own connection to the trees that surround us. \nCost: Included with general daily admission\, which is free for members and ages 15 and younger and $20–25 for non-members ages 16 and older. Indigenous peoples receive waived general daily admission to the Arboretum when making a reservation by calling 612.301.6775. \nArtist Meet & Greet \n1–3 p.m. May 16 in the Cafe Gallery \nMeet the artists behind two very different media\, but equally inspired by the natural world and their places within it. Artists include Mary Pat Maracle and Kristen Palm.
URL:https://lakeminnetonkamag.com/event/toward-the-trees-artist-meet-greet/
LOCATION:Minnesota Landscape Arboretum\, 3675 Arboretum Drive\, Chaska\, MN\, 55318
CATEGORIES:Arts & Performance
ATTACH;FMTTYPE=image/jpeg:https://lakeminnetonkamag.com/wp-content/uploads/2026/04/memoryoftrees-1200x800.jpg.jpg
END:VEVENT
BEGIN:VEVENT
DTSTART;TZID=America/Chicago:20260517T110000
DTEND;TZID=America/Chicago:20260517T153000
DTSTAMP:20260419T222717
CREATED:20240502T152319Z
LAST-MODIFIED:20260406T151602Z
UID:8341-1779015600-1779031800@lakeminnetonkamag.com
SUMMARY:Annual St. Peter Lutheran German Maifest
DESCRIPTION:Join us for our annual German Maifest Celebration on May 17\, from 10 a.m.–3 p.m. The event kicks off with a German-inspired worship service that starts at 10 a.m. Enjoy our famous St. Peter-made schnitzel dinners\, Kramarczuk brats\, hot pretzels and St. Peter-made apfelstrudel. If you do not wish to attend in person\, to-go orders will be available upon request during the event. \nThere will be live entertainment\, a silent auction\, Maifest Markt\, Maibaum Raising Ceremony\, kids activities\, including a bounce house and much more. \nEntertainment: \n\n11 a.m.–3 p.m. Bill Koncar\, roaming accordionist\n11 a.m.–noon Alpensterne\nNoon–12:30 p.m. S.G. Edelweiss Schuplattlers Dance Group\n12:30–1:30 p.m. Alpensterne\n1:30–2 p.m. S.G. Edelweiss Schuplattlers Dance Group\n2–3 p.m. Alpensterne\n3:10 p.m. Maibaum Raising Ceremony – everyone dressed in tracht are encouraged to help!\n\nSilent Auction: \nThis year’s Silent Auction will be in the church. The auction opens at 11 a.m. and closes at 2:50 p.m. Winning items can be picked up at 3:15 p.m. \nMaifest Markt: \nThe ever popular Maifest Markt will run from 11–3 p.m. This year’s Markt will include German imports\, hand-made goods\, local arts and crafts\, canned goods and items of curiosity and wonder.
URL:https://lakeminnetonkamag.com/event/annual-st-peter-lutheran-german-maifest/
LOCATION:St. Peter Lutheran Church\, 3030 Navajo Ave.\, Watertown\, MN\, 55388
CATEGORIES:Arts & Performance,Community,Food & Drink
ATTACH;FMTTYPE=image/jpeg:https://lakeminnetonkamag.com/wp-content/uploads/2024/05/maifestbanner.jpg
ORGANIZER;CN="St. Peter Lutheran Church":MAILTO:admin@stpeterlc.org
END:VEVENT
BEGIN:VEVENT
DTSTART;TZID=America/Chicago:20260529T160000
DTEND;TZID=America/Chicago:20260529T200000
DTSTAMP:20260419T222717
CREATED:20260325T142817Z
LAST-MODIFIED:20260325T142817Z
UID:15418-1780070400-1780084800@lakeminnetonkamag.com
SUMMARY:Sailing Open House
DESCRIPTION:Enjoy this opportunity to try sailing an MC racing scow or a comfortable keelboat. Your family and friends are invited to meet our instructors\, members and racers. No reservation necessary\, but you may call to reserve a sail time. Sails are every 30 minutes from 4:30 p.m. to 7:30 p.m.  Free event with $5 tax-deductible donation suggested. You may just show up at the event or call to reserve your ride time. Contact: Captain Joan Gilmore 612.871.8101 or sailingschool@me.com.
URL:https://lakeminnetonkamag.com/event/sailing-open-house/
LOCATION:Upper Minnetonka Yacht Club Marina\, 4580 Enchanted Point\, Shorewood\, MN\, 55331
CATEGORIES:Outdoors,Sports
ATTACH;FMTTYPE=image/jpeg:https://lakeminnetonkamag.com/wp-content/uploads/2026/03/Upper-Minnetonka-Yacht-Club-logo.jpg
END:VEVENT
BEGIN:VEVENT
DTSTART;TZID=America/Chicago:20260531T113000
DTEND;TZID=America/Chicago:20260531T133000
DTSTAMP:20260419T222717
CREATED:20260414T151917Z
LAST-MODIFIED:20260414T152158Z
UID:15522-1780227000-1780234200@lakeminnetonkamag.com
SUMMARY:"Viewpoint" Artist Meet & Greet
DESCRIPTION:Viewpoint brings together the distinct artistic lenses of Brian Jensen and Mary Meuwissen to explore how we perceive our surroundings. \nJensen offers a viewpoint rooted in clarity and memory—his precision-based acrylics on wood capture the iconic beauty of Minnesota’s landscapes and lakes with a storyteller’s eye. \nIn contrast\, Meuwissen offers a viewpoint from within. Her abstract\, luminous layers of oil and wax paintings strip away the literal to reveal the emotional essence of a place. When looking at her pieces\, you witness the joyful shifting of energy in nature. \nThis exhibition invites you to shift your own perspective and find beauty in it all. \nArtist Meet & Greet \n11:30 a.m.–1:30 p.m. on May 31 in the Reedy Gallery. \nJoin us for an informal meet and greet with the artists Mary Meuwissen and Brian Jensen. You will be able explore the collection and chat with Mary and Brian about their creative process.
URL:https://lakeminnetonkamag.com/event/viewpoint-artist-meet-greet/
LOCATION:Minnesota Landscape Arboretum\, 3675 Arboretum Drive\, Chaska\, MN\, 55318
CATEGORIES:Arts & Performance
ATTACH;FMTTYPE=image/jpeg:https://lakeminnetonkamag.com/wp-content/uploads/2026/04/flowersanothersidemeuwissen_488x488.jpg.jpg
END:VEVENT
BEGIN:VEVENT
DTSTART;TZID=America/Chicago:20260613T100000
DTEND;TZID=America/Chicago:20260613T180000
DTSTAMP:20260419T222717
CREATED:20231103T153609Z
LAST-MODIFIED:20260303T155554Z
UID:6683-1781344800-1781373600@lakeminnetonkamag.com
SUMMARY:Excelsior Art on the Lake
DESCRIPTION:Experience the enchanting world of Excelsior Art on the Lake\, where over 120 gifted artists converge to showcase their original creations. Amidst live music and a delightful array of culinary delights\, this event unites personal narratives with a vibrant lakeside community\, offering a diverse range of artistic brilliance. \nNestled in the historic lakeside village of Excelsior\, you’ll also discover an array of unique shops\, galleries and eateries\, bringing art enthusiasts from across the Twin Cities and beyond. \nExcelsior Art on the Lake is an inspiring blend of art\, community\, and entertainment\, featuring local musicians and regional food vendors throughout the two-day affair. Best of all\, it’s open to everyone\, and admission is free. Don’t miss out on this unforgettable celebration of creativity and culture by the lake. Please visit our website for the most up-to-date information.
URL:https://lakeminnetonkamag.com/event/excelsior-art-on-the-lake/
LOCATION:Downtown Excelsior\, Water Street\, Excelsior\, MN\, 55331
CATEGORIES:Arts & Performance
ATTACH;FMTTYPE=image/jpeg:https://lakeminnetonkamag.com/wp-content/uploads/2023/11/Studio220_0043.jpg
END:VEVENT
BEGIN:VEVENT
DTSTART;TZID=America/Chicago:20260614T100000
DTEND;TZID=America/Chicago:20260614T160000
DTSTAMP:20260419T222717
CREATED:20231103T153640Z
LAST-MODIFIED:20260303T155622Z
UID:6685-1781431200-1781452800@lakeminnetonkamag.com
SUMMARY:Excelsior Art on the Lake
DESCRIPTION:Experience the enchanting world of Excelsior Art on the Lake\, where over 120 gifted artists converge to showcase their original creations. Amidst live music and a delightful array of culinary delights\, this event unites personal narratives with a vibrant lakeside community\, offering a diverse range of artistic brilliance. \nNestled in the historic lakeside village of Excelsior\, you’ll also discover an array of unique shops\, galleries and eateries\, bringing art enthusiasts from across the Twin Cities and beyond. \nExcelsior Art on the Lake is an inspiring blend of art\, community\, and entertainment\, featuring local musicians and regional food vendors throughout the two-day affair. Best of all\, it’s open to everyone\, and admission is free. Don’t miss out on this unforgettable celebration of creativity and culture by the lake. Please visit our website for the most up-to-date information.
URL:https://lakeminnetonkamag.com/event/excelsior-art-on-the-lake-2/
LOCATION:Downtown Excelsior\, Water Street\, Excelsior\, MN\, 55331
CATEGORIES:Arts & Performance
ATTACH;FMTTYPE=image/jpeg:https://lakeminnetonkamag.com/wp-content/uploads/2023/11/Studio220_0043.jpg
END:VEVENT
BEGIN:VEVENT
DTSTART;TZID=America/Chicago:20260619T113000
DTEND;TZID=America/Chicago:20260619T150000
DTSTAMP:20260419T222717
CREATED:20260414T152329Z
LAST-MODIFIED:20260414T152329Z
UID:15524-1781868600-1781881200@lakeminnetonkamag.com
SUMMARY:"Radiant Flow" Artist Meet & Greet
DESCRIPTION:Bringing together three distinct voices\, Radiant Flow celebrates the movement between nature\, tradition\, and modern expression. This exhibition explores how light and energy transition across different surfaces. \nPatty MacHalec’s plein-air style multimedia canvases display a classic depth. The organic\, three-dimensional curves of Kristen Treuting’s gourds are stained with ornamental motifs. Jane Johnson’s contemporary paintings vibrantly capture the fluid\, ever-changing nature of the world around us. \nTogether\, these artists invite you to witness the “flow” that connects the tactile world with the human spirit. \nArtist Meet & Greet \n11:30 a.m.–3 p.m. on June 19 in the Cafe Gallery \nJoin us for a celebration of the creative spirit.
URL:https://lakeminnetonkamag.com/event/radiant-flow-artist-meet-greet/
LOCATION:Minnesota Landscape Arboretum\, 3675 Arboretum Drive\, Chaska\, MN\, 55318
CATEGORIES:Arts & Performance
ATTACH;FMTTYPE=image/jpeg:https://lakeminnetonkamag.com/wp-content/uploads/2026/04/boatsmachalec-1200x800.jpg.jpg
END:VEVENT
BEGIN:VEVENT
DTSTART;TZID=America/Chicago:20260627T100000
DTEND;TZID=America/Chicago:20260627T180000
DTSTAMP:20260419T222717
CREATED:20230615T193726Z
LAST-MODIFIED:20260303T153741Z
UID:4310-1782554400-1782583200@lakeminnetonkamag.com
SUMMARY:Wayzata Art Experience
DESCRIPTION:The quaint lakeside village of Wayzata\, otherwise known as the jewel of Lake Minnetonka\, draws art lovers from across the Twin Cities with its charming shops and dining hot spots. Wayzata Art Experience\, held in the heart of downtown Wayzata\, provides a two-day celebration of art\, music\, food and fun for all ages. Established in 2004\, the Wayzata Art Experience is held on the shores of Lake Minnetonka. All forms of art will be seen\, heard and tasted by the experts.
URL:https://lakeminnetonkamag.com/event/wayzata-art-experience/
LOCATION:Downtown Wayzata\, Wayzata\, MN
CATEGORIES:Arts & Performance,Fashion & Shopping
ATTACH;FMTTYPE=image/png:https://lakeminnetonkamag.com/wp-content/uploads/2023/06/Growth-Zone-ContactEvent-sizing.png
END:VEVENT
BEGIN:VEVENT
DTSTART;TZID=America/Chicago:20260628T100000
DTEND;TZID=America/Chicago:20260628T160000
DTSTAMP:20260419T222717
CREATED:20260303T153819Z
LAST-MODIFIED:20260303T153819Z
UID:15226-1782640800-1782662400@lakeminnetonkamag.com
SUMMARY:Wayzata Art Experience
DESCRIPTION:The quaint lakeside village of Wayzata\, otherwise known as the jewel of Lake Minnetonka\, draws art lovers from across the Twin Cities with its charming shops and dining hot spots. Wayzata Art Experience\, held in the heart of downtown Wayzata\, provides a two-day celebration of art\, music\, food and fun for all ages. Established in 2004\, the Wayzata Art Experience is held on the shores of Lake Minnetonka. All forms of art will be seen\, heard and tasted by the experts.
URL:https://lakeminnetonkamag.com/event/wayzata-art-experience-2/
LOCATION:Downtown Wayzata\, Wayzata\, MN
CATEGORIES:Arts & Performance,Fashion & Shopping
ATTACH;FMTTYPE=image/png:https://lakeminnetonkamag.com/wp-content/uploads/2023/06/Growth-Zone-ContactEvent-sizing.png
END:VEVENT
BEGIN:VEVENT
DTSTART;TZID=America/Chicago:20260718T090000
DTEND;TZID=America/Chicago:20260718T090000
DTSTAMP:20260419T222717
CREATED:20250513T154851Z
LAST-MODIFIED:20260403T165920Z
UID:12331-1784365200-1784365200@lakeminnetonkamag.com
SUMMARY:SALT Yoga Event
DESCRIPTION:This 45-minute faith flow\, led by Monica Staley of Wellness by Monica\, invites you to slow down to experience restorative stretching and devotional reflection—creating space to breathe\, receive and meditate on God’s Word\, all set along the peaceful shores of Lake Minnetonka\, making it the perfect way to start your day. \nAfter class\, stay and enjoy refreshing beverages and meaningful community connection. \nThis event is powered by Sweat And Live Truth (SALT)\, a Christian wellness brand dedicated to uniting believers through faith-centered wellness events.
URL:https://lakeminnetonkamag.com/event/salt-yoga-event/
LOCATION:Excelsior Commons Park\, 135 Lake St.\, Excelsior\, MN\, 55331
CATEGORIES:Health & Wellness,Sports
ATTACH;FMTTYPE=image/jpeg:https://lakeminnetonkamag.com/wp-content/uploads/2025/05/482808856_17852240604405644_3049523846433052544_n.jpg
ORGANIZER;CN="Sweat and Live Truth":MAILTO:jessica@sweatandlivetruth.com
END:VEVENT
BEGIN:VEVENT
DTSTART;TZID=America/Chicago:20260725T113000
DTEND;TZID=America/Chicago:20260725T133000
DTSTAMP:20260419T222717
CREATED:20260414T152856Z
LAST-MODIFIED:20260414T152856Z
UID:15526-1784979000-1784986200@lakeminnetonkamag.com
SUMMARY:"Nature\, Color\, Splash" Artist Meet & Greet
DESCRIPTION:Each canvas is a “splash”—a moment when artist interpretation meets nature. Each time\, the result is a work of art that challenges the objective view of the environment. \nThis is not nature observed\, but nature felt. \nEnjoy how these colorful landscapes sing in harmony revealing an energy that invites you to breathe it all in. \nArtist Meet & Greet  \n11:30 a.m.–1:30 p.m. July 25 in the Reedy Gallery
URL:https://lakeminnetonkamag.com/event/nature-color-splash-artist-meet-greet/
LOCATION:Minnesota Landscape Arboretum\, 3675 Arboretum Drive\, Chaska\, MN\, 55318
CATEGORIES:Arts & Performance
ATTACH;FMTTYPE=image/jpeg:https://lakeminnetonkamag.com/wp-content/uploads/2026/04/sifferlin2-1200x1200.jpg.jpg
END:VEVENT
BEGIN:VEVENT
DTSTART;TZID=America/Chicago:20260725T120000
DTEND;TZID=America/Chicago:20260725T150000
DTSTAMP:20260419T222717
CREATED:20260408T165537Z
LAST-MODIFIED:20260408T165537Z
UID:15493-1784980800-1784991600@lakeminnetonkamag.com
SUMMARY:Buckhorn Days Car Show
DESCRIPTION:Calling all Car Enthusiasts\, please join us for the 2nd annual Orono Lions Car Show in conjunction with Buckhorn Days in Long Lake. \nGates open at 11 a.m.\, car show noon–3 p.m.
URL:https://lakeminnetonkamag.com/event/buckhorn-days-car-show/
LOCATION:Nelson Lakeside Park\, 1860 Symes St.\, Long Lake\, MN\, 55356
CATEGORIES:Benefits & Fundraisers
ATTACH;FMTTYPE=image/jpeg:https://lakeminnetonkamag.com/wp-content/uploads/2026/04/rsw_1240cg_true.jpg
END:VEVENT
BEGIN:VEVENT
DTSTART;TZID=America/Chicago:20261010T110000
DTEND;TZID=America/Chicago:20261010T150000
DTSTAMP:20260419T222717
CREATED:20260323T142302Z
LAST-MODIFIED:20260323T142302Z
UID:15392-1791630000-1791644400@lakeminnetonkamag.com
SUMMARY:Mystery Writers Book Fair
DESCRIPTION:The Twin Cities chapter of Sisters in Crime will be hosting a book fair at The Marsh on October 10. All of the authors are Twin Cities residents and have published books in the true crime\, mystery\, thriller and cozy mystery genres. Twenty-eight writers will offer their books for sale and would love to talk to you about writing\, and where story ideas come from. A percentage of the proceeds from sales will be donated to the ICA Food Shelf serving Minnetonka\, Hopkins\, and other nearby communities.
URL:https://lakeminnetonkamag.com/event/mystery-writers-book-fair/
LOCATION:The Marsh\, 15000 Minnetonka Blvd.\, Minnetonka\, MN\, 55345
CATEGORIES:Arts & Performance
ATTACH;FMTTYPE=image/jpeg:https://lakeminnetonkamag.com/wp-content/uploads/2026/03/TCSinC_typewriter_nobackground-261x300-1.jpg
END:VEVENT
END:VCALENDAR